BEGIN:VCALENDAR
VERSION:2.0
PRODID:-//ChamberMaster//Event Calendar 2.0//EN
METHOD:PUBLISH
X-PUBLISHED-TTL:P3D
REFRESH-INTERVAL:P3D
CALSCALE:GREGORIAN
BEGIN:VEVENT
DTSTART:20260117T160000Z
DTEND:20260117T200000Z
X-MICROSOFT-CDO-ALLDAYEVENT:FALSE
SUMMARY:Tree Toss
DESCRIPTION:Want a wild start to your new year? Join us for Tree Toss\, a much-anticipated event that's become a tradition for our Animal Park family. Each year\, the generous folks at Cranberry Tree Farm donate their unsold Christmas trees to the Park\, and we give them to our animals as a special form of post-holiday enrichment. They love the strong scent of evergreens and the scratchy texture perfect for rolling all over. Our animal residents have been very good this year\, so we'll add even more post-holiday gifts besides the trees and you can help create them. Participate in the crafting fun: No special skills are required\, and we provide all the materials. It's fun "fur" all!
X-ALT-DESC;FMTTYPE=text/html:Want a wild start to your new year? Join us for Tree Toss\, a much-anticipated event that&rsquo\;s become a tradition for our Animal Park family. Each year\, the generous folks at Cranberry Tree Farm donate their unsold Christmas trees to the Park\, and we give them to our animals as a special form of post-holiday enrichment. They love the strong scent of evergreens and the scratchy texture&mdash\;perfect for rolling all over. Our animal residents have been very good this year\, so we&rsquo\;ll add even more post-holiday gifts besides the trees&mdash\;and you can help create them. Participate in the crafting fun: No special skills are required\, and we provide all the materials. It&rsquo\;s fun &ldquo\;fur&rdquo\; all!
LOCATION:Animal Park at the Conservators Center 676 E. Hughes Mill Road Burlington\, NC 27217
UID:e.3607.114
SEQUENCE:3
DTSTAMP:20260422T103459Z
URL:https://business.caswellchamber.org/events/details/tree-toss-01-17-2026-114
END:VEVENT

END:VCALENDAR
